BEGIN:VCALENDAR
VERSION:2.0
PRODID:-//BCIT Student Association - ECPv6.15.20//NONSGML v1.0//EN
CALSCALE:GREGORIAN
METHOD:PUBLISH
X-ORIGINAL-URL:https://www.bcitsa.ca
X-WR-CALDESC:Events for BCIT Student Association
REFRESH-INTERVAL;VALUE=DURATION:PT1H
X-Robots-Tag:noindex
X-PUBLISHED-TTL:PT1H
BEGIN:VTIMEZONE
TZID:America/Vancouver
BEGIN:DAYLIGHT
TZOFFSETFROM:-0800
TZOFFSETTO:-0700
TZNAME:PDT
DTSTART:20250309T100000
END:DAYLIGHT
BEGIN:STANDARD
TZOFFSETFROM:-0700
TZOFFSETTO:-0800
TZNAME:PST
DTSTART:20251102T090000
END:STANDARD
BEGIN:DAYLIGHT
TZOFFSETFROM:-0800
TZOFFSETTO:-0700
TZNAME:PDT
DTSTART:20260308T100000
END:DAYLIGHT
BEGIN:STANDARD
TZOFFSETFROM:-0700
TZOFFSETTO:-0800
TZNAME:PST
DTSTART:20261101T090000
END:STANDARD
BEGIN:DAYLIGHT
TZOFFSETFROM:-0800
TZOFFSETTO:-0700
TZNAME:PDT
DTSTART:20270314T100000
END:DAYLIGHT
BEGIN:STANDARD
TZOFFSETFROM:-0700
TZOFFSETTO:-0800
TZNAME:PST
DTSTART:20271107T090000
END:STANDARD
END:VTIMEZONE
BEGIN:VEVENT
DTSTART;TZID=America/Vancouver:20260319T150000
DTEND;TZID=America/Vancouver:20260319T160000
DTSTAMP:20260421T193837
CREATED:20260203T062915Z
LAST-MODIFIED:20260319T153324Z
UID:10000642-1773932400-1773936000@www.bcitsa.ca
SUMMARY:Virtual Live | Resume Workshop | March 19\, 2026
DESCRIPTION:Want to get your resume noticed and make it to the interview stage? \nThis workshop will walk you through how to build a customized resume for your targeted profession and tailor it for specific job postings. The workshop will help you understand what makes a visually appealing format and how to develop attention-grabbing content. \nDetails: \nStart Date: March 19\, 2026 \nEnd Date: 3:00 PM – 4:00 PM \nRegister Here\nLocation: This workshop is delivered through the Learning Hub. You will be given access to the workshop at 12 AM on the start date. If you do not complete the workshop\, you will not be able to retake it without a Career Specialist’s referral. \nCancellation Disclaimer: \nPlease respect our time. If you cannot attend this workshop\, please email careerservices@bcitsa.ca. Non-attendance will affect future workshop registration. \n***Check your junk mail/spam folder for confirmation and reminder emails as our messages may appear there.
URL:https://www.bcitsa.ca/event/virtual-live-resume-workshop-march-19-2026/
LOCATION:Virtual Workshop
CATEGORIES:Career & Entrepreneurship
ATTACH;FMTTYPE=image/png:https://www.bcitsa.ca/wp-content/uploads/2026/02/CSresumes.png
END:VEVENT
END:VCALENDAR