BEGIN:VCALENDAR
VERSION:2.0
PRODID:-//BCIT Student Association - ECPv6.15.20//NONSGML v1.0//EN
CALSCALE:GREGORIAN
METHOD:PUBLISH
X-ORIGINAL-URL:https://www.bcitsa.ca
X-WR-CALDESC:Events for BCIT Student Association
REFRESH-INTERVAL;VALUE=DURATION:PT1H
X-Robots-Tag:noindex
X-PUBLISHED-TTL:PT1H
BEGIN:VTIMEZONE
TZID:America/Vancouver
BEGIN:DAYLIGHT
TZOFFSETFROM:-0800
TZOFFSETTO:-0700
TZNAME:PDT
DTSTART:20250309T100000
END:DAYLIGHT
BEGIN:STANDARD
TZOFFSETFROM:-0700
TZOFFSETTO:-0800
TZNAME:PST
DTSTART:20251102T090000
END:STANDARD
BEGIN:DAYLIGHT
TZOFFSETFROM:-0800
TZOFFSETTO:-0700
TZNAME:PDT
DTSTART:20260308T100000
END:DAYLIGHT
BEGIN:STANDARD
TZOFFSETFROM:-0700
TZOFFSETTO:-0800
TZNAME:PST
DTSTART:20261101T090000
END:STANDARD
BEGIN:DAYLIGHT
TZOFFSETFROM:-0800
TZOFFSETTO:-0700
TZNAME:PDT
DTSTART:20270314T100000
END:DAYLIGHT
BEGIN:STANDARD
TZOFFSETFROM:-0700
TZOFFSETTO:-0800
TZNAME:PST
DTSTART:20271107T090000
END:STANDARD
END:VTIMEZONE
BEGIN:VEVENT
DTSTART;TZID=America/Vancouver:20260421T113000
DTEND;TZID=America/Vancouver:20260421T123000
DTSTAMP:20260421T100533
CREATED:20260319T145213Z
LAST-MODIFIED:20260416T212619Z
UID:10000671-1776771000-1776774600@www.bcitsa.ca
SUMMARY:Downtown Campus | Resume Walk-In | April 21\, 2026
DESCRIPTION: \n\n\nDetails: \nStop by room 685 at the Downtown Campus with your resume in hand\, or register to secure your spot. You’ll receive instant feedback and suggestions from one of our Career Specialists. Don’t miss this opportunity for personalized guidance tailored just for you! \nWhen: April 21\, 2026 \nTime: 11:30 AM – 12:30 PM \nRegister Here\nRegistration Not Required!
URL:https://www.bcitsa.ca/event/downtown-campus-resume-walk-in-april-21-2026/
LOCATION:BCIT Downtown Campus – Room 685\, 555 Seymour Street\, Vancouver\, British Columbia\, V6B 3H6\, Canada
CATEGORIES:Career & Entrepreneurship
ATTACH;FMTTYPE=image/svg+xml:https://www.bcitsa.ca/wp-content/uploads/2026/04/Resume-Clinic-Walk-In.svg
END:VEVENT
BEGIN:VEVENT
DTSTART;TZID=America/Vancouver:20260428T113000
DTEND;TZID=America/Vancouver:20260428T123000
DTSTAMP:20260421T100533
CREATED:20260218T010349Z
LAST-MODIFIED:20260318T222917Z
UID:10000653-1777375800-1777379400@www.bcitsa.ca
SUMMARY:Downtown Campus | Resume Walk-In | April 28\, 2026
DESCRIPTION: \n\n\nDetails: \nStop by room 685 at the Downtown Campus with your resume in hand\, or register to secure your spot. You’ll receive instant feedback and suggestions from one of our Career Specialists. Don’t miss this opportunity for personalized guidance tailored just for you! \nWhen: Apr 28\, 2026Time: 11:30 AM – 12:30 PM \nRegister Here\nRegistration Not Required!
URL:https://www.bcitsa.ca/event/downtown-campus-resume-walk-in-april-28-2026/
LOCATION:BCIT Downtown Campus – Room 685\, 555 Seymour Street\, Vancouver\, British Columbia\, V6B 3H6\, Canada
CATEGORIES:Career & Entrepreneurship
END:VEVENT
BEGIN:VEVENT
DTSTART;TZID=America/Vancouver:20260505T113000
DTEND;TZID=America/Vancouver:20260505T123000
DTSTAMP:20260421T100533
CREATED:20260413T143151Z
LAST-MODIFIED:20260413T143331Z
UID:10000678-1777980600-1777984200@www.bcitsa.ca
SUMMARY:Resume Walk-In | Downtown Campus
DESCRIPTION:Resume Walk-In Clinic\n\nStop by room 685 at the Downtown Campus with your resume in hand\, or register to secure your spot. You’ll receive instant feedback and suggestions from one of our Career Specialists. Don’t miss this opportunity for personalized guidance tailored just for you! \n\nRegister Here
URL:https://www.bcitsa.ca/event/resume-walk-in-downtown-campus/
LOCATION:BCIT Downtown Campus – Room 685\, 555 Seymour Street\, Vancouver\, British Columbia\, V6B 3H6\, Canada
CATEGORIES:Career & Entrepreneurship
ORGANIZER;CN="BCITSA Career Services":MAILTO:careerservices@bcitsa.ca
END:VEVENT
BEGIN:VEVENT
DTSTART;TZID=America/Vancouver:20260512T113000
DTEND;TZID=America/Vancouver:20260512T123000
DTSTAMP:20260421T100534
CREATED:20260413T145510Z
LAST-MODIFIED:20260413T145548Z
UID:10000680-1778585400-1778589000@www.bcitsa.ca
SUMMARY:Resume Walk-In | Downtown Campus
DESCRIPTION:Resume Walk-In Clinic\n\nStop by room 685 at the Downtown Campus with your resume in hand\, or register to secure your spot. You’ll receive instant feedback and suggestions from one of our Career Specialists. Don’t miss this opportunity for personalized guidance tailored just for you! \n\nRegister Here
URL:https://www.bcitsa.ca/event/resume-walk-in-downtown-campus-2/
LOCATION:BCIT Downtown Campus – Room 685\, 555 Seymour Street\, Vancouver\, British Columbia\, V6B 3H6\, Canada
CATEGORIES:Career & Entrepreneurship
ORGANIZER;CN="BCITSA Career Services":MAILTO:careerservices@bcitsa.ca
END:VEVENT
BEGIN:VEVENT
DTSTART;TZID=America/Vancouver:20260519T113000
DTEND;TZID=America/Vancouver:20260519T123000
DTSTAMP:20260421T100534
CREATED:20260413T150749Z
LAST-MODIFIED:20260413T150751Z
UID:10000682-1779190200-1779193800@www.bcitsa.ca
SUMMARY:Resume Walk-In | Downtown Campus
DESCRIPTION:Resume Walk-In Clinic\n\nStop by room 685 at the Downtown Campus with your resume in hand\, or register to secure your spot. You’ll receive instant feedback and suggestions from one of our Career Specialists. Don’t miss this opportunity for personalized guidance tailored just for you! \n\nRegister Here
URL:https://www.bcitsa.ca/event/resume-walk-in-downtown-campus-3/
LOCATION:BCIT Downtown Campus – Room 685\, 555 Seymour Street\, Vancouver\, British Columbia\, V6B 3H6\, Canada
CATEGORIES:Career & Entrepreneurship
ORGANIZER;CN="BCITSA Career Services":MAILTO:careerservices@bcitsa.ca
END:VEVENT
END:VCALENDAR