BEGIN:VCALENDAR
VERSION:2.0
PRODID:-//BCIT Student Association - ECPv6.15.20//NONSGML v1.0//EN
CALSCALE:GREGORIAN
METHOD:PUBLISH
X-ORIGINAL-URL:https://www.bcitsa.ca
X-WR-CALDESC:Events for BCIT Student Association
REFRESH-INTERVAL;VALUE=DURATION:PT1H
X-Robots-Tag:noindex
X-PUBLISHED-TTL:PT1H
BEGIN:VTIMEZONE
TZID:America/Vancouver
BEGIN:DAYLIGHT
TZOFFSETFROM:-0800
TZOFFSETTO:-0700
TZNAME:PDT
DTSTART:20250309T100000
END:DAYLIGHT
BEGIN:STANDARD
TZOFFSETFROM:-0700
TZOFFSETTO:-0800
TZNAME:PST
DTSTART:20251102T090000
END:STANDARD
BEGIN:DAYLIGHT
TZOFFSETFROM:-0800
TZOFFSETTO:-0700
TZNAME:PDT
DTSTART:20260308T100000
END:DAYLIGHT
BEGIN:STANDARD
TZOFFSETFROM:-0700
TZOFFSETTO:-0800
TZNAME:PST
DTSTART:20261101T090000
END:STANDARD
BEGIN:DAYLIGHT
TZOFFSETFROM:-0800
TZOFFSETTO:-0700
TZNAME:PDT
DTSTART:20270314T100000
END:DAYLIGHT
BEGIN:STANDARD
TZOFFSETFROM:-0700
TZOFFSETTO:-0800
TZNAME:PST
DTSTART:20271107T090000
END:STANDARD
END:VTIMEZONE
BEGIN:VEVENT
DTSTART;TZID=America/Vancouver:20260421T113000
DTEND;TZID=America/Vancouver:20260421T123000
DTSTAMP:20260421T112854
CREATED:20260319T145213Z
LAST-MODIFIED:20260416T212619Z
UID:10000671-1776771000-1776774600@www.bcitsa.ca
SUMMARY:Downtown Campus | Resume Walk-In | April 21\, 2026
DESCRIPTION: \n\n\nDetails: \nStop by room 685 at the Downtown Campus with your resume in hand\, or register to secure your spot. You’ll receive instant feedback and suggestions from one of our Career Specialists. Don’t miss this opportunity for personalized guidance tailored just for you! \nWhen: April 21\, 2026 \nTime: 11:30 AM – 12:30 PM \nRegister Here\nRegistration Not Required!
URL:https://www.bcitsa.ca/event/downtown-campus-resume-walk-in-april-21-2026/
LOCATION:BCIT Downtown Campus – Room 685\, 555 Seymour Street\, Vancouver\, British Columbia\, V6B 3H6\, Canada
CATEGORIES:Career & Entrepreneurship
ATTACH;FMTTYPE=image/svg+xml:https://www.bcitsa.ca/wp-content/uploads/2026/04/Resume-Clinic-Walk-In.svg
END:VEVENT
BEGIN:VEVENT
DTSTART;TZID=America/Vancouver:20260422T110000
DTEND;TZID=America/Vancouver:20260423T150000
DTSTAMP:20260421T112854
CREATED:20260319T181641Z
LAST-MODIFIED:20260331T195239Z
UID:10000674-1776855600-1776956400@www.bcitsa.ca
SUMMARY:BCITSA Spring Thing!
DESCRIPTION:BCIT\, it’s time to celebrate the end of the year with two days of outdoor carnival fun. \nEach day brings different activities\, so you won’t want to miss either. \nDate: April 22 & 23Time: 11 AM – 3 PMWhere: Beedie Plaza\, in front of SE02 (Great Hall SE2 if its raining) \nHere’s what you can expect: \nDay 1:\n\n9-hole Mini Golf\nSports Games\n2 Claw Machines with Exciting Prizes\nCraft Station\nPhotobooth\nFREE Bak’d Cookies (limited quantity available\, first come first\, served)\nMany more surprises\n\nDay 2:\n\nPetting Zoo\n2 Claw Machines with Exciting Prizes\nJacob’s Ladder\nDouble Axe Throw\nCraft Station\nPhotobooth\nFREE Mini Donuts (limited quantity available\, first come first\, served)\nMany more surprises\n\nWhether you come for one day or both\, there’s always something new to check out. Bring your friends\, take a break\, and soak up the spring vibes on campus.
URL:https://www.bcitsa.ca/event/bcitsa-spring-thing/
LOCATION:BCIT Burnaby Campus\, 3700 Willingdon Avenue\, Burnaby\, V5G 3H2
CATEGORIES:Campus Life & Community
ATTACH;FMTTYPE=image/jpeg:https://www.bcitsa.ca/wp-content/uploads/2026/03/Spring-Thing-Event-Calendar.jpg
END:VEVENT
END:VCALENDAR