BEGIN:VCALENDAR
VERSION:2.0
PRODID:-//BCIT Student Association - ECPv6.15.20//NONSGML v1.0//EN
CALSCALE:GREGORIAN
METHOD:PUBLISH
X-ORIGINAL-URL:https://www.bcitsa.ca
X-WR-CALDESC:Events for BCIT Student Association
REFRESH-INTERVAL;VALUE=DURATION:PT1H
X-Robots-Tag:noindex
X-PUBLISHED-TTL:PT1H
BEGIN:VTIMEZONE
TZID:America/Vancouver
BEGIN:DAYLIGHT
TZOFFSETFROM:-0800
TZOFFSETTO:-0700
TZNAME:PDT
DTSTART:20250309T100000
END:DAYLIGHT
BEGIN:STANDARD
TZOFFSETFROM:-0700
TZOFFSETTO:-0800
TZNAME:PST
DTSTART:20251102T090000
END:STANDARD
BEGIN:DAYLIGHT
TZOFFSETFROM:-0800
TZOFFSETTO:-0700
TZNAME:PDT
DTSTART:20260308T100000
END:DAYLIGHT
BEGIN:STANDARD
TZOFFSETFROM:-0700
TZOFFSETTO:-0800
TZNAME:PST
DTSTART:20261101T090000
END:STANDARD
BEGIN:DAYLIGHT
TZOFFSETFROM:-0800
TZOFFSETTO:-0700
TZNAME:PDT
DTSTART:20270314T100000
END:DAYLIGHT
BEGIN:STANDARD
TZOFFSETFROM:-0700
TZOFFSETTO:-0800
TZNAME:PST
DTSTART:20271107T090000
END:STANDARD
END:VTIMEZONE
BEGIN:VEVENT
DTSTART;TZID=America/Vancouver:20260427T173000
DTEND;TZID=America/Vancouver:20260427T193000
DTSTAMP:20260421T124349
CREATED:20260317T181723Z
LAST-MODIFIED:20260318T152535Z
UID:10000667-1777311000-1777318200@www.bcitsa.ca
SUMMARY:BCITSA Council Meeting
DESCRIPTION:BCITSA Council Meeting: Get in the Loop!\nDid you know the BCITSA Council meetings are open to all BCITSA members? This is the place where big decisions that impact your student life are made\, covering everything from finance and services to advocacy and policy. Attend to observe the process and understand how student governance works. \nMeeting Details:\n\nTime: 5:30 PM – 7:30 PM\nLocation: Hybrid (In-Person & Online)\nIn-Person: BCITSA Council Chambers (SE2 – 3rd Floor\, Burnaby Campus)\nOnline: Microsoft Teams\n\nHow to Join:\nJust send a quick email to our Executive Assistant & Board Liaison\, Adam Beggs\, at abeggs@bcitsa.ca. He will send you the official meeting package (that’s the agenda and reports) and the Microsoft Teams link to join. \n\nTransparency & Records\nYou can find the minutes from previous meetings and the full schedule on the main Council page here: BCITSA Council Minutes
URL:https://www.bcitsa.ca/event/bcitsa-council-meeting/2026-04-27/
LOCATION:British Columbia
CATEGORIES:Governance & Advocacy
ATTACH;FMTTYPE=image/jpeg:https://www.bcitsa.ca/wp-content/uploads/2025/12/council-meetings.jpg
END:VEVENT
BEGIN:VEVENT
DTSTART;TZID=America/Vancouver:20260428T110000
DTEND;TZID=America/Vancouver:20260428T130000
DTSTAMP:20260421T124349
CREATED:20260304T194320Z
LAST-MODIFIED:20260318T145743Z
UID:10000657-1777374000-1777381200@www.bcitsa.ca
SUMMARY:Create Break
DESCRIPTION:Join our cozy\, hands-on “Create Break” workshops to spark creativity and connect with the community.\nEach session offers a seasonal craft led by a presenter with free supplies provided. \nNo experience needed. Extra materials are available for experienced crafters to create self-directed projects.
URL:https://www.bcitsa.ca/event/create-break-5/
LOCATION:Summit Centre\, Building SE14 - 3700 Willingdon Avenue\, Burnaby\, BC\, V5G 3H2\, Canada
CATEGORIES:Campus Life & Community
ATTACH;FMTTYPE=image/jpeg:https://www.bcitsa.ca/wp-content/uploads/2025/11/Create-Break-Generic_1.jpg
END:VEVENT
BEGIN:VEVENT
DTSTART;TZID=America/Vancouver:20260428T113000
DTEND;TZID=America/Vancouver:20260428T123000
DTSTAMP:20260421T124349
CREATED:20260218T010349Z
LAST-MODIFIED:20260318T222917Z
UID:10000653-1777375800-1777379400@www.bcitsa.ca
SUMMARY:Downtown Campus | Resume Walk-In | April 28\, 2026
DESCRIPTION: \n\n\nDetails: \nStop by room 685 at the Downtown Campus with your resume in hand\, or register to secure your spot. You’ll receive instant feedback and suggestions from one of our Career Specialists. Don’t miss this opportunity for personalized guidance tailored just for you! \nWhen: Apr 28\, 2026Time: 11:30 AM – 12:30 PM \nRegister Here\nRegistration Not Required!
URL:https://www.bcitsa.ca/event/downtown-campus-resume-walk-in-april-28-2026/
LOCATION:BCIT Downtown Campus – Room 685\, 555 Seymour Street\, Vancouver\, British Columbia\, V6B 3H6\, Canada
CATEGORIES:Career & Entrepreneurship
END:VEVENT
BEGIN:VEVENT
DTSTART;TZID=America/Vancouver:20260429T120000
DTEND;TZID=America/Vancouver:20260429T160000
DTSTAMP:20260421T124349
CREATED:20260319T150648Z
LAST-MODIFIED:20260421T163854Z
UID:10000673-1777464000-1777478400@www.bcitsa.ca
SUMMARY:Burnaby Campus | Professional Headshots | April 29\, 2026
DESCRIPTION:If you’re looking to get that professional headshot LinkedIn picture just right\, the BCITSA’s Career Services will be providing professional headshots to BCIT Students and Alumni at the Burnaby Campus! \nThis is a FREE service so come prepared to say ‘cheese’! A Career Specialist will be available to give you ‘tips and tricks’ for your LinkedIn Profile. \nDetails: \nWhen: April 29\, 2026Time: 12:00 PM – 4:00 PMWhere: BCIT Burnaby Campus\, Building SE02\, 3rd Floor – Council Chambers \nRegister Here\nIf there are no more time slots available please sign-up for the waitlist here: Smartsheet Form \nIf you would like more information contact careerservices@bcitsa.ca. \n*Please Note: it take 2-3 weeks to receive your photos. When they are ready someone will contact with details on how to get them. \n*If you cannot make it to the session\, please cancel within 24 hours through the event booking page or email careerservices@bcitsa.ca. No-shows will affect future session registration.
URL:https://www.bcitsa.ca/event/burnaby-campus-professional-headshots-april-29-2026/
LOCATION:BCIT Burnaby Campus – SE02 – 3rd Floor – Council Chambers\, 3700 Willingdon Avenue\, Burnaby\, BC\, V5G 3H2\, Canada
CATEGORIES:Career & Entrepreneurship
ATTACH;FMTTYPE=image/png:https://www.bcitsa.ca/wp-content/uploads/2026/02/CPA-scaled.png
END:VEVENT
END:VCALENDAR