BEGIN:VCALENDAR
VERSION:2.0
PRODID:-//BCIT Student Association - ECPv6.15.20//NONSGML v1.0//EN
CALSCALE:GREGORIAN
METHOD:PUBLISH
X-ORIGINAL-URL:https://www.bcitsa.ca
X-WR-CALDESC:Events for BCIT Student Association
REFRESH-INTERVAL;VALUE=DURATION:PT1H
X-Robots-Tag:noindex
X-PUBLISHED-TTL:PT1H
BEGIN:VTIMEZONE
TZID:America/Vancouver
BEGIN:DAYLIGHT
TZOFFSETFROM:-0800
TZOFFSETTO:-0700
TZNAME:PDT
DTSTART:20250309T100000
END:DAYLIGHT
BEGIN:STANDARD
TZOFFSETFROM:-0700
TZOFFSETTO:-0800
TZNAME:PST
DTSTART:20251102T090000
END:STANDARD
BEGIN:DAYLIGHT
TZOFFSETFROM:-0800
TZOFFSETTO:-0700
TZNAME:PDT
DTSTART:20260308T100000
END:DAYLIGHT
BEGIN:STANDARD
TZOFFSETFROM:-0700
TZOFFSETTO:-0800
TZNAME:PST
DTSTART:20261101T090000
END:STANDARD
BEGIN:DAYLIGHT
TZOFFSETFROM:-0800
TZOFFSETTO:-0700
TZNAME:PDT
DTSTART:20270314T100000
END:DAYLIGHT
BEGIN:STANDARD
TZOFFSETFROM:-0700
TZOFFSETTO:-0800
TZNAME:PST
DTSTART:20271107T090000
END:STANDARD
END:VTIMEZONE
BEGIN:VEVENT
DTSTART;TZID=America/Vancouver:20260430T110000
DTEND;TZID=America/Vancouver:20260430T140000
DTSTAMP:20260421T190701
CREATED:20260417T212543Z
LAST-MODIFIED:20260420T155848Z
UID:10000687-1777546800-1777557600@www.bcitsa.ca
SUMMARY:Downtown Campus Recharge
DESCRIPTION:Are assignments and exams getting you down? Unwind\, de-stress\, and get the boost you deserve right here on campus!At Recharge\, students are welcome to relax with a variety of activities. Stop by and take a break!
URL:https://www.bcitsa.ca/event/downtown-campus-recharge-2/
LOCATION:BCIT Downtown Campus\, 555 Seymour St\, Vancouver\, British Columbia\, V6B 3H6\, Canada
CATEGORIES:Campus Life & Community
ATTACH;FMTTYPE=image/jpeg:https://www.bcitsa.ca/wp-content/uploads/2026/04/Recharge-DTC-Events-Calendar.jpg
END:VEVENT
END:VCALENDAR