BEGIN:VCALENDAR
VERSION:2.0
PRODID:-//BCIT Student Association - ECPv6.15.20//NONSGML v1.0//EN
CALSCALE:GREGORIAN
METHOD:PUBLISH
X-WR-CALNAME:BCIT Student Association
X-ORIGINAL-URL:https://www.bcitsa.ca
X-WR-CALDESC:Events for BCIT Student Association
REFRESH-INTERVAL;VALUE=DURATION:PT1H
X-Robots-Tag:noindex
X-PUBLISHED-TTL:PT1H
BEGIN:VTIMEZONE
TZID:America/Vancouver
BEGIN:DAYLIGHT
TZOFFSETFROM:-0800
TZOFFSETTO:-0700
TZNAME:PDT
DTSTART:20250309T100000
END:DAYLIGHT
BEGIN:STANDARD
TZOFFSETFROM:-0700
TZOFFSETTO:-0800
TZNAME:PST
DTSTART:20251102T090000
END:STANDARD
BEGIN:DAYLIGHT
TZOFFSETFROM:-0800
TZOFFSETTO:-0700
TZNAME:PDT
DTSTART:20260308T100000
END:DAYLIGHT
BEGIN:STANDARD
TZOFFSETFROM:-0700
TZOFFSETTO:-0800
TZNAME:PST
DTSTART:20261101T090000
END:STANDARD
BEGIN:DAYLIGHT
TZOFFSETFROM:-0800
TZOFFSETTO:-0700
TZNAME:PDT
DTSTART:20270314T100000
END:DAYLIGHT
BEGIN:STANDARD
TZOFFSETFROM:-0700
TZOFFSETTO:-0800
TZNAME:PST
DTSTART:20271107T090000
END:STANDARD
END:VTIMEZONE
BEGIN:VEVENT
DTSTART;TZID=America/Vancouver:20260407T113000
DTEND;TZID=America/Vancouver:20260407T123000
DTSTAMP:20260421T191632
CREATED:20260218T005942Z
LAST-MODIFIED:20260319T154339Z
UID:10000647-1775561400-1775565000@www.bcitsa.ca
SUMMARY:Downtown Campus | Resume Walk-In | April 7\, 2026
DESCRIPTION: \n\n\nStop by room 685 at the Downtown Campus with your resume in hand\, or register to secure your spot. You’ll receive instant feedback and suggestions from one of our Career Specialists. Don’t miss this opportunity for personalized guidance tailored just for you! \nWhen: Apr 7\, 2026 \nTime: 11:30 AM – 12:30 PM \nRegister Here \nRegistration Not Required!
URL:https://www.bcitsa.ca/event/downtown-campus-resume-walk-in-april-7-2026/
LOCATION:BCIT Downtown Campus – Room 685\, 555 Seymour Street\, Vancouver\, British Columbia\, V6B 3H6\, Canada
CATEGORIES:Career & Entrepreneurship
END:VEVENT
END:VCALENDAR