BEGIN:VCALENDAR
VERSION:2.0
PRODID:-//BCIT Student Association - ECPv6.15.20//NONSGML v1.0//EN
CALSCALE:GREGORIAN
METHOD:PUBLISH
X-WR-CALNAME:BCIT Student Association
X-ORIGINAL-URL:https://www.bcitsa.ca
X-WR-CALDESC:Events for BCIT Student Association
REFRESH-INTERVAL;VALUE=DURATION:PT1H
X-Robots-Tag:noindex
X-PUBLISHED-TTL:PT1H
BEGIN:VTIMEZONE
TZID:America/Vancouver
BEGIN:DAYLIGHT
TZOFFSETFROM:-0800
TZOFFSETTO:-0700
TZNAME:PDT
DTSTART:20250309T100000
END:DAYLIGHT
BEGIN:STANDARD
TZOFFSETFROM:-0700
TZOFFSETTO:-0800
TZNAME:PST
DTSTART:20251102T090000
END:STANDARD
BEGIN:DAYLIGHT
TZOFFSETFROM:-0800
TZOFFSETTO:-0700
TZNAME:PDT
DTSTART:20260308T100000
END:DAYLIGHT
BEGIN:STANDARD
TZOFFSETFROM:-0700
TZOFFSETTO:-0800
TZNAME:PST
DTSTART:20261101T090000
END:STANDARD
BEGIN:DAYLIGHT
TZOFFSETFROM:-0800
TZOFFSETTO:-0700
TZNAME:PDT
DTSTART:20270314T100000
END:DAYLIGHT
BEGIN:STANDARD
TZOFFSETFROM:-0700
TZOFFSETTO:-0800
TZNAME:PST
DTSTART:20271107T090000
END:STANDARD
END:VTIMEZONE
BEGIN:VEVENT
DTSTART;VALUE=DATE:20260302
DTEND;VALUE=DATE:20260310
DTSTAMP:20260424T083750
CREATED:20260129T003632Z
LAST-MODIFIED:20260317T195934Z
UID:10000633-1772409600-1773100799@www.bcitsa.ca
SUMMARY:E-learning | Cover Letter Workshop | March 2\, 2026
DESCRIPTION:Confused about what to write in your cover letter? This workshop will clear your confusion and help you know what to focus on in your cover letter.  \nThis workshop will give you step by step cover letter writing guidelines\, along with strategies to develop an evidence-based letter that will add value to your application. \nThis online 1-week workshop can take anywhere from 1-3 hours per week to complete. You will not be marked and you can go at your own pace. Throughout the workshop you have access to the expertise of BCITSA Career Specialists. They will support your cover letter writing process and provide you with feedback. By the end of this workshop\, you will have an impressive cover letter that delivers personalized and evidence-based value. \nDetails: \nStart Date: Mar 2\, 2026 \nEnd Date: Mar 9\, 2026 \nLocation: *This workshop is delivered through the Learning Hub. If you do not complete the workshop\, you will not be able to retake it without a Career Specialist’s referral. \nCancellation Disclaimer: \nPlease respect our time. If you cannot attend this workshop\, please email careerservices@bcitsa.ca. Non-attendance will affect future workshop registration. \n***Check your junk mail/spam folder for confirmation and reminder emails as our messages may appear there.
URL:https://www.bcitsa.ca/event/e-learning-cover-letter-workshop-march-2-2026/
LOCATION:Litmos/Learning Hub
CATEGORIES:Career & Entrepreneurship
ATTACH;FMTTYPE=image/png:https://www.bcitsa.ca/wp-content/uploads/2026/02/CScoverletters.png
END:VEVENT
END:VCALENDAR