BEGIN:VCALENDAR
VERSION:2.0
PRODID:-//BCIT Student Association - ECPv6.15.20//NONSGML v1.0//EN
CALSCALE:GREGORIAN
METHOD:PUBLISH
X-ORIGINAL-URL:https://www.bcitsa.ca
X-WR-CALDESC:Events for BCIT Student Association
REFRESH-INTERVAL;VALUE=DURATION:PT1H
X-Robots-Tag:noindex
X-PUBLISHED-TTL:PT1H
BEGIN:VTIMEZONE
TZID:America/Vancouver
BEGIN:DAYLIGHT
TZOFFSETFROM:-0800
TZOFFSETTO:-0700
TZNAME:PDT
DTSTART:20250309T100000
END:DAYLIGHT
BEGIN:STANDARD
TZOFFSETFROM:-0700
TZOFFSETTO:-0800
TZNAME:PST
DTSTART:20251102T090000
END:STANDARD
BEGIN:DAYLIGHT
TZOFFSETFROM:-0800
TZOFFSETTO:-0700
TZNAME:PDT
DTSTART:20260308T100000
END:DAYLIGHT
BEGIN:STANDARD
TZOFFSETFROM:-0700
TZOFFSETTO:-0800
TZNAME:PST
DTSTART:20261101T090000
END:STANDARD
BEGIN:DAYLIGHT
TZOFFSETFROM:-0800
TZOFFSETTO:-0700
TZNAME:PDT
DTSTART:20270314T100000
END:DAYLIGHT
BEGIN:STANDARD
TZOFFSETFROM:-0700
TZOFFSETTO:-0800
TZNAME:PST
DTSTART:20271107T090000
END:STANDARD
END:VTIMEZONE
BEGIN:VEVENT
DTSTART;TZID=America/Vancouver:20260427T173000
DTEND;TZID=America/Vancouver:20260427T193000
DTSTAMP:20260421T114037
CREATED:20260317T181723Z
LAST-MODIFIED:20260318T152535Z
UID:10000667-1777311000-1777318200@www.bcitsa.ca
SUMMARY:BCITSA Council Meeting
DESCRIPTION:BCITSA Council Meeting: Get in the Loop!\nDid you know the BCITSA Council meetings are open to all BCITSA members? This is the place where big decisions that impact your student life are made\, covering everything from finance and services to advocacy and policy. Attend to observe the process and understand how student governance works. \nMeeting Details:\n\nTime: 5:30 PM – 7:30 PM\nLocation: Hybrid (In-Person & Online)\nIn-Person: BCITSA Council Chambers (SE2 – 3rd Floor\, Burnaby Campus)\nOnline: Microsoft Teams\n\nHow to Join:\nJust send a quick email to our Executive Assistant & Board Liaison\, Adam Beggs\, at abeggs@bcitsa.ca. He will send you the official meeting package (that’s the agenda and reports) and the Microsoft Teams link to join. \n\nTransparency & Records\nYou can find the minutes from previous meetings and the full schedule on the main Council page here: BCITSA Council Minutes
URL:https://www.bcitsa.ca/event/bcitsa-council-meeting/2026-04-27/
CATEGORIES:Governance & Advocacy
ATTACH;FMTTYPE=image/jpeg:https://www.bcitsa.ca/wp-content/uploads/2025/12/council-meetings.jpg
END:VEVENT
BEGIN:VEVENT
DTSTART;TZID=America/Vancouver:20260511T173000
DTEND;TZID=America/Vancouver:20260511T193000
DTSTAMP:20260421T114037
CREATED:20260317T181723Z
LAST-MODIFIED:20260318T152535Z
UID:10000668-1778520600-1778527800@www.bcitsa.ca
SUMMARY:BCITSA Council Meeting
DESCRIPTION:BCITSA Council Meeting: Get in the Loop!\nDid you know the BCITSA Council meetings are open to all BCITSA members? This is the place where big decisions that impact your student life are made\, covering everything from finance and services to advocacy and policy. Attend to observe the process and understand how student governance works. \nMeeting Details:\n\nTime: 5:30 PM – 7:30 PM\nLocation: Hybrid (In-Person & Online)\nIn-Person: BCITSA Council Chambers (SE2 – 3rd Floor\, Burnaby Campus)\nOnline: Microsoft Teams\n\nHow to Join:\nJust send a quick email to our Executive Assistant & Board Liaison\, Adam Beggs\, at abeggs@bcitsa.ca. He will send you the official meeting package (that’s the agenda and reports) and the Microsoft Teams link to join. \n\nTransparency & Records\nYou can find the minutes from previous meetings and the full schedule on the main Council page here: BCITSA Council Minutes
URL:https://www.bcitsa.ca/event/bcitsa-council-meeting/2026-05-11/
CATEGORIES:Governance & Advocacy
ATTACH;FMTTYPE=image/jpeg:https://www.bcitsa.ca/wp-content/uploads/2025/12/council-meetings.jpg
END:VEVENT
BEGIN:VEVENT
DTSTART;TZID=America/Vancouver:20260525T173000
DTEND;TZID=America/Vancouver:20260525T193000
DTSTAMP:20260421T114037
CREATED:20260317T181723Z
LAST-MODIFIED:20260318T152535Z
UID:10000669-1779730200-1779737400@www.bcitsa.ca
SUMMARY:BCITSA Council Meeting
DESCRIPTION:BCITSA Council Meeting: Get in the Loop!\nDid you know the BCITSA Council meetings are open to all BCITSA members? This is the place where big decisions that impact your student life are made\, covering everything from finance and services to advocacy and policy. Attend to observe the process and understand how student governance works. \nMeeting Details:\n\nTime: 5:30 PM – 7:30 PM\nLocation: Hybrid (In-Person & Online)\nIn-Person: BCITSA Council Chambers (SE2 – 3rd Floor\, Burnaby Campus)\nOnline: Microsoft Teams\n\nHow to Join:\nJust send a quick email to our Executive Assistant & Board Liaison\, Adam Beggs\, at abeggs@bcitsa.ca. He will send you the official meeting package (that’s the agenda and reports) and the Microsoft Teams link to join. \n\nTransparency & Records\nYou can find the minutes from previous meetings and the full schedule on the main Council page here: BCITSA Council Minutes
URL:https://www.bcitsa.ca/event/bcitsa-council-meeting/2026-05-25/
CATEGORIES:Governance & Advocacy
ATTACH;FMTTYPE=image/jpeg:https://www.bcitsa.ca/wp-content/uploads/2025/12/council-meetings.jpg
END:VEVENT
END:VCALENDAR