BEGIN:VCALENDAR
VERSION:2.0
PRODID:-//BCIT Student Association - ECPv6.15.20//NONSGML v1.0//EN
CALSCALE:GREGORIAN
METHOD:PUBLISH
X-WR-CALNAME:BCIT Student Association
X-ORIGINAL-URL:https://www.bcitsa.ca
X-WR-CALDESC:Events for BCIT Student Association
REFRESH-INTERVAL;VALUE=DURATION:PT1H
X-Robots-Tag:noindex
X-PUBLISHED-TTL:PT1H
BEGIN:VTIMEZONE
TZID:America/Vancouver
BEGIN:DAYLIGHT
TZOFFSETFROM:-0800
TZOFFSETTO:-0700
TZNAME:PDT
DTSTART:20250309T100000
END:DAYLIGHT
BEGIN:STANDARD
TZOFFSETFROM:-0700
TZOFFSETTO:-0800
TZNAME:PST
DTSTART:20251102T090000
END:STANDARD
BEGIN:DAYLIGHT
TZOFFSETFROM:-0800
TZOFFSETTO:-0700
TZNAME:PDT
DTSTART:20260308T100000
END:DAYLIGHT
BEGIN:STANDARD
TZOFFSETFROM:-0700
TZOFFSETTO:-0800
TZNAME:PST
DTSTART:20261101T090000
END:STANDARD
BEGIN:DAYLIGHT
TZOFFSETFROM:-0800
TZOFFSETTO:-0700
TZNAME:PDT
DTSTART:20270314T100000
END:DAYLIGHT
BEGIN:STANDARD
TZOFFSETFROM:-0700
TZOFFSETTO:-0800
TZNAME:PST
DTSTART:20271107T090000
END:STANDARD
END:VTIMEZONE
BEGIN:VEVENT
DTSTART;TZID=America/Vancouver:20260330T150000
DTEND;TZID=America/Vancouver:20260330T170000
DTSTAMP:20260421T192025
CREATED:20260319T150114Z
LAST-MODIFIED:20260319T153753Z
UID:10000672-1774882800-1774890000@www.bcitsa.ca
SUMMARY:Burnaby Campus | Career Fair Prep Drop-In (In Person) | March 30\, 2026
DESCRIPTION:Have any last-minute questions to prepare for the upcoming Career Fair? \nReceive tips & strategies to make a great first impression with employers! \nBook a quick 15-minute in-person appointment with a Career Specialist via MS Teams. \nDetails: \nWhen: March 30\, 2026 \nTime: 3:00 pm – 5:00 pm \nLocation: BCIT Burnaby Campus\, Building SE02\, 2nd Floor – Fishbowl \nCancellation Disclaimer: \n*If you cannot attend this meeting\, please email careerservices@bcitsa.ca.  \n***Check your junk mail/spam folder for confirmation and reminder emails as our messages may appear there.
URL:https://www.bcitsa.ca/event/burnaby-campus-career-fair-prep-drop-in-in-person-march-30-2026/
LOCATION:BCIT – Burnaby Campus SE02 – 2nd Floor\, Fishbowl\, 3700 Willingdon Ave\, Burnaby\, BC\, V5G 3H2
CATEGORIES:Career & Entrepreneurship
ATTACH;FMTTYPE=image/png:https://www.bcitsa.ca/wp-content/uploads/2026/02/General-Events-e1696623734298.png
END:VEVENT
BEGIN:VEVENT
DTSTART;TZID=America/Vancouver:20260331T113000
DTEND;TZID=America/Vancouver:20260331T123000
DTSTAMP:20260421T192025
CREATED:20260203T064518Z
LAST-MODIFIED:20260319T154010Z
UID:10000644-1774956600-1774960200@www.bcitsa.ca
SUMMARY:Downtown Campus | How to Optimize Your Job Search | March 31\, 2026
DESCRIPTION:A successful job search uses multiple strategies. \nThis workshop introduces you to the hidden job market and effective networking strategies. Be prepared to practice communication skills. \nDetails: \nWhen: March 31\, 2026Time: 11:30 AM – 12:30 PM \nRegister Here\nLocation: This is an in-person workshop taking place at the Downtown Campus at 11:30 AM\, Room 685. \n**If you cannot make it to the workshop\, please cancel within 24 hours by emailing careerservices@bcitsa.ca. No shows will affect future workshop registration. \n***Check your junk mail/spam folder for confirmation and reminder emails as our messages may appear there.
URL:https://www.bcitsa.ca/event/downtown-campus-how-to-optimize-your-job-search-march-31-2026/
LOCATION:BCIT Downtown Campus – Room 685\, 555 Seymour Street\, Vancouver\, British Columbia\, V6B 3H6\, Canada
CATEGORIES:Career & Entrepreneurship
ATTACH;FMTTYPE=image/png:https://www.bcitsa.ca/wp-content/uploads/2026/02/Job-Search-Strategies.png
END:VEVENT
END:VCALENDAR