BEGIN:VCALENDAR
VERSION:2.0
PRODID:-//BCIT Student Association - ECPv6.15.20//NONSGML v1.0//EN
CALSCALE:GREGORIAN
METHOD:PUBLISH
X-WR-CALNAME:BCIT Student Association
X-ORIGINAL-URL:https://www.bcitsa.ca
X-WR-CALDESC:Events for BCIT Student Association
REFRESH-INTERVAL;VALUE=DURATION:PT1H
X-Robots-Tag:noindex
X-PUBLISHED-TTL:PT1H
BEGIN:VTIMEZONE
TZID:America/Vancouver
BEGIN:DAYLIGHT
TZOFFSETFROM:-0800
TZOFFSETTO:-0700
TZNAME:PDT
DTSTART:20250309T100000
END:DAYLIGHT
BEGIN:STANDARD
TZOFFSETFROM:-0700
TZOFFSETTO:-0800
TZNAME:PST
DTSTART:20251102T090000
END:STANDARD
BEGIN:DAYLIGHT
TZOFFSETFROM:-0800
TZOFFSETTO:-0700
TZNAME:PDT
DTSTART:20260308T100000
END:DAYLIGHT
BEGIN:STANDARD
TZOFFSETFROM:-0700
TZOFFSETTO:-0800
TZNAME:PST
DTSTART:20261101T090000
END:STANDARD
BEGIN:DAYLIGHT
TZOFFSETFROM:-0800
TZOFFSETTO:-0700
TZNAME:PDT
DTSTART:20270314T100000
END:DAYLIGHT
BEGIN:STANDARD
TZOFFSETFROM:-0700
TZOFFSETTO:-0800
TZNAME:PST
DTSTART:20271107T090000
END:STANDARD
END:VTIMEZONE
BEGIN:VEVENT
DTSTART;TZID=America/Vancouver:20260323T120000
DTEND;TZID=America/Vancouver:20260323T150000
DTSTAMP:20260421T165656
CREATED:20260223T190628Z
LAST-MODIFIED:20260319T173607Z
UID:10000296-1774267200-1774278000@www.bcitsa.ca
SUMMARY:🗳️ Voting Starts (Online until April 2)
DESCRIPTION:Check your student email! 📥\nVoting for the 2026-27 BCITSA Elections is officially open. \n\nSearch your inbox for: “SimplyVoting”\nHow long? It takes about 2 minutes.\nWhy? You’re picking the people who run the SA and manage student fees next year.\n\nClick the button below to learn more about this years candidates.  \n\n\n\n\n\nClick Here
URL:https://www.bcitsa.ca/event/%f0%9f%97%b3%ef%b8%8f-voting-starts-online-until-april-2/
CATEGORIES:Governance & Advocacy
ATTACH;FMTTYPE=image/jpeg:https://www.bcitsa.ca/wp-content/uploads/2026/02/1300x600-Eventcalender-Nominations.jpg
END:VEVENT
END:VCALENDAR