BEGIN:VCALENDAR
VERSION:2.0
PRODID:-//BCIT Student Association - ECPv6.15.20//NONSGML v1.0//EN
CALSCALE:GREGORIAN
METHOD:PUBLISH
X-WR-CALNAME:BCIT Student Association
X-ORIGINAL-URL:https://www.bcitsa.ca
X-WR-CALDESC:Events for BCIT Student Association
REFRESH-INTERVAL;VALUE=DURATION:PT1H
X-Robots-Tag:noindex
X-PUBLISHED-TTL:PT1H
BEGIN:VTIMEZONE
TZID:America/Vancouver
BEGIN:DAYLIGHT
TZOFFSETFROM:-0800
TZOFFSETTO:-0700
TZNAME:PDT
DTSTART:20250309T100000
END:DAYLIGHT
BEGIN:STANDARD
TZOFFSETFROM:-0700
TZOFFSETTO:-0800
TZNAME:PST
DTSTART:20251102T090000
END:STANDARD
BEGIN:DAYLIGHT
TZOFFSETFROM:-0800
TZOFFSETTO:-0700
TZNAME:PDT
DTSTART:20260308T100000
END:DAYLIGHT
BEGIN:STANDARD
TZOFFSETFROM:-0700
TZOFFSETTO:-0800
TZNAME:PST
DTSTART:20261101T090000
END:STANDARD
BEGIN:DAYLIGHT
TZOFFSETFROM:-0800
TZOFFSETTO:-0700
TZNAME:PDT
DTSTART:20270314T100000
END:DAYLIGHT
BEGIN:STANDARD
TZOFFSETFROM:-0700
TZOFFSETTO:-0800
TZNAME:PST
DTSTART:20271107T090000
END:STANDARD
END:VTIMEZONE
BEGIN:VEVENT
DTSTART;TZID=America/Vancouver:20260302T000000
DTEND;TZID=America/Vancouver:20260330T235959
DTSTAMP:20260421T165640
CREATED:20260129T003457Z
LAST-MODIFIED:20260319T153318Z
UID:10000632-1772409600-1774915199@www.bcitsa.ca
SUMMARY:E-learning | Career Exploration & Learning Workshop | Mar 2\, 2026
DESCRIPTION:Are you feeling stuck and not sure what jobs to pursue after graduation? Do you need more clarity in deciding which career options are a good fit for you?\n\nWhether you are just starting to plan for your future\, wanting to change jobs or looking to advance your career\, this workshop guide you through each step of career exploration and planning.  \nThis online 4-week workshop is interactive featuring 5 lessons complete with step by step guidelines and worksheet activities. Throughout the workshop you have access to the expertise of BCITSA Career Specialists to support your learning along the way. \nThis workshop is for any BCIT student or alumni wanting to explore their career options and develop clearer career goals and action plans through a more flexible online environment. \nDetails: \nStart Date: March 2\, 2026 \nLocation: This workshop is delivered through the Learning Hub. You will be given access to the workshop at 12 AM on the start date. If you do not complete the workshop\, you will not be able to retake it without a Career Specialist’s referral. \nRegister Here\nCancellation Disclaimer: \nPlease respect our time. If you cannot attend this workshop\, please email careerservices@bcitsa.ca. Non-attendance will affect future workshop registration. \n***Check your junk mail/spam folder for confirmation and reminder emails as our messages may appear there.
URL:https://www.bcitsa.ca/event/e-learning-career-exploration-learning-workshop-mar-2-2026/
LOCATION:Learning Hub
CATEGORIES:Career & Entrepreneurship
ATTACH;FMTTYPE=image/png:https://www.bcitsa.ca/wp-content/uploads/2026/02/image.png
END:VEVENT
BEGIN:VEVENT
DTSTART;TZID=America/Vancouver:20260324T113000
DTEND;TZID=America/Vancouver:20260324T123000
DTSTAMP:20260421T165640
CREATED:20260206T024559Z
LAST-MODIFIED:20260319T153504Z
UID:10000643-1774351800-1774355400@www.bcitsa.ca
SUMMARY:Downtown Campus | Resume Walk-In | March 24\, 2026
DESCRIPTION: \n\n\nDetails: \nStop by room 685 at the Downtown Campus with your resume in hand\, or register to secure your spot. You’ll receive instant feedback and suggestions from one of our Career Specialists. Don’t miss this opportunity for personalized guidance tailored just for you! \nWhen: Mar 24\, 2026 \nTime: 11:30 AM – 12:30 PM \nRegister Here\nRegistration Not Required!
URL:https://www.bcitsa.ca/event/downtown-campus-resume-walk-in-march-24-2026/
LOCATION:BCIT Downtown Campus – Room 685\, 555 Seymour Street\, Vancouver\, British Columbia\, V6B 3H6\, Canada
CATEGORIES:Career & Entrepreneurship
END:VEVENT
BEGIN:VEVENT
DTSTART;TZID=America/Vancouver:20260324T130000
DTEND;TZID=America/Vancouver:20260324T150000
DTSTAMP:20260421T165640
CREATED:20260203T063128Z
LAST-MODIFIED:20260319T174113Z
UID:10000639-1774357200-1774364400@www.bcitsa.ca
SUMMARY:Aerospace Campus | Aviation Management & Operations Career Fair | March 24\, 2026
DESCRIPTION:BCITSA Career Services is excited to host this career fair filled with opportunities to meet one-on-one with hiring managers and industry professionals in the Aviation Management & Operations field! Use this event to get to know local employers\, find out what jobs they are actively hiring BCIT students and grads for\, and gain industry insights on the hiring process and employer needs. \nDetails: \nWhen: Monday\, March 24\, 2026 \nTime: 1:00 PM – 3:00 PM \nLocation: Aerospace Campus – Atrium \nEmployers: To be determined \n***Registration Not Required!
URL:https://www.bcitsa.ca/event/aerospace-campus-aviation-management-operations-career-fair-march-24-2026/
LOCATION:BCIT – Aerospace Campus – Atrium\, 3800 Cessna Drive\, Richmond\, British Columbia\, V7B 1C3
CATEGORIES:Career & Entrepreneurship
ATTACH;FMTTYPE=image/jpeg:https://www.bcitsa.ca/wp-content/uploads/2026/02/ATC-AMO-Email-Graphic-scaled-1.jpg
END:VEVENT
BEGIN:VEVENT
DTSTART;TZID=America/Vancouver:20260325T103000
DTEND;TZID=America/Vancouver:20260325T150000
DTSTAMP:20260421T165640
CREATED:20260129T011513Z
LAST-MODIFIED:20260318T220424Z
UID:10000636-1774434600-1774450800@www.bcitsa.ca
SUMMARY:Burnaby Campus | Resume Clinic | March 25\, 2026
DESCRIPTION:Coming to the upcoming Career Fair?\nNeed to polish or update your resume? We’ve got you covered! \nDrop by between the times below and receive practical tips from a Career Specialist. Bring your resume in hand or on your device to receive on-the-spot feedback. \nGive your resume a just-in-time refresh that is sure to impress employers! \nDetails: \nWhen: Wednesday\, March 25\, 2026Time: 10:30 AM – 12:30 PM & 1:30 PM – 3:00 PMLocation: BCIT Burnaby Campus\, Building SE2\, The Great Hall \nRegister Here\n*If you cannot make it to the workshop\, please cancel within 24 hours by emailing careerservices@bcitsa.ca. No shows will affect future workshop registration. \n**Check your junk mail/spam folder for confirmation and reminder emails as our messages may appear there. \n***If you ran into problems during registration\, please contact info@bcitsa.ca for more information
URL:https://www.bcitsa.ca/event/burnaby-campus-resume-clinic-march-26-2026/
LOCATION:BCITSA Great Hall SE2\, 3700 Willingdon Ave\, Burnaby\, British Columbia\, V5G 3H2\, Canada
CATEGORIES:Career & Entrepreneurship
ATTACH;FMTTYPE=image/png:https://www.bcitsa.ca/wp-content/uploads/2026/02/CSresumes.png
END:VEVENT
BEGIN:VEVENT
DTSTART;TZID=America/Vancouver:20260326T150000
DTEND;TZID=America/Vancouver:20260326T160000
DTSTAMP:20260421T165640
CREATED:20260203T075522Z
LAST-MODIFIED:20260319T153633Z
UID:10000645-1774537200-1774540800@www.bcitsa.ca
SUMMARY:Virtual Live | Career Fair Prep Workshop | March 26\, 2026
DESCRIPTION:Attend an interactive session where ideas will be shared on how best to prepare for our upcoming April 1 Hiring Fair. \n\nLearn tips on navigating the experience\, introducing yourself to employers\, asking impressive questions and how to close the conversation. Get ready to impress your potential employer! \nDetails: \nWhen: Thursday\, March 26\, 2026Time: 3:00 PM – 4:00 PM \nRegister Here\nLocation: This is a LIVE virtual workshop hosted on MS Teams. Once registered\, you will receive a confirmation email with the meeting link. \n**If you cannot make it to the workshop\, please cancel within 24 hours by emailing careerservices@bcitsa.ca. No shows will affect future workshop registration. \n***Check your junk mail/spam folder for confirmation and reminder emails as our messages may appear there.
URL:https://www.bcitsa.ca/event/virtual-live-career-fair-prep-workshop-march-26-2026/
LOCATION:Virtual\, Canada
CATEGORIES:Career & Entrepreneurship
ATTACH;FMTTYPE=image/png:https://www.bcitsa.ca/wp-content/uploads/2026/02/ac240aa8-3bd2-ec11-a7b5-0022486da956-scaled.png
END:VEVENT
END:VCALENDAR