BEGIN:VCALENDAR
VERSION:2.0
PRODID:-//BCIT Student Association - ECPv6.15.20//NONSGML v1.0//EN
CALSCALE:GREGORIAN
METHOD:PUBLISH
X-WR-CALNAME:BCIT Student Association
X-ORIGINAL-URL:https://www.bcitsa.ca
X-WR-CALDESC:Events for BCIT Student Association
REFRESH-INTERVAL;VALUE=DURATION:PT1H
X-Robots-Tag:noindex
X-PUBLISHED-TTL:PT1H
BEGIN:VTIMEZONE
TZID:America/Vancouver
BEGIN:DAYLIGHT
TZOFFSETFROM:-0800
TZOFFSETTO:-0700
TZNAME:PDT
DTSTART:20250309T100000
END:DAYLIGHT
BEGIN:STANDARD
TZOFFSETFROM:-0700
TZOFFSETTO:-0800
TZNAME:PST
DTSTART:20251102T090000
END:STANDARD
BEGIN:DAYLIGHT
TZOFFSETFROM:-0800
TZOFFSETTO:-0700
TZNAME:PDT
DTSTART:20260308T100000
END:DAYLIGHT
BEGIN:STANDARD
TZOFFSETFROM:-0700
TZOFFSETTO:-0800
TZNAME:PST
DTSTART:20261101T090000
END:STANDARD
BEGIN:DAYLIGHT
TZOFFSETFROM:-0800
TZOFFSETTO:-0700
TZNAME:PDT
DTSTART:20270314T100000
END:DAYLIGHT
BEGIN:STANDARD
TZOFFSETFROM:-0700
TZOFFSETTO:-0800
TZNAME:PST
DTSTART:20271107T090000
END:STANDARD
END:VTIMEZONE
BEGIN:VEVENT
DTSTART;TZID=America/Vancouver:20260521T150000
DTEND;TZID=America/Vancouver:20260521T160000
DTSTAMP:20260422T130316
CREATED:20260413T152446Z
LAST-MODIFIED:20260413T152448Z
UID:10000683-1779375600-1779379200@www.bcitsa.ca
SUMMARY:Cover Letter Workshop | Virtual
DESCRIPTION:Confused about what to write in your cover letter? \n\nThis workshop will clear your confusion and help you know what to focus on in your cover letter. The workshop will give you step by step cover letter writing guidelines\, along with strategies to develop an evidence-based letter that will add value to your application. \n\nRegister Here\n\nLocation:This is a LIVE virtual workshop hosted on MS Teams. Once registered\, you will receive a confirmation email with the meeting link. \n\nCancellation Disclaimer:Please respect our time. If you cannot attend this workshop\, please email careerservices@bcitsa.ca. Non-attendance will affect future workshop registration. \n\n***Check your junk mail/spam folder for confirmation and reminder emails as our messages may appear there.
URL:https://www.bcitsa.ca/event/cover-letter-workshop-virtual/
LOCATION:Virtual Workshop
CATEGORIES:Career & Entrepreneurship
ATTACH;FMTTYPE=image/svg+xml:https://www.bcitsa.ca/wp-content/uploads/2026/04/Cover-Letter-Workshops-1.svg
ORGANIZER;CN="BCITSA Career Services":MAILTO:careerservices@bcitsa.ca
END:VEVENT
BEGIN:VEVENT
DTSTART;TZID=America/Vancouver:20260526T113000
DTEND;TZID=America/Vancouver:20260526T123000
DTSTAMP:20260422T130316
CREATED:20260422T170907Z
LAST-MODIFIED:20260422T170909Z
UID:10000691-1779795000-1779798600@www.bcitsa.ca
SUMMARY:Downtown Campus | How to Use AI Power Skills For Your Career Search | May 26\, 2026
DESCRIPTION:Ready to supercharge your job hunt with the power of AI? This hands-on workshop will show you how to use today’s smartest tools to work faster\, apply smarter\, and stand out in a competitive job market. \nWhether you’re just starting out or looking to level up\, learn how to make the best use of AI—and make your job search less stressful and more efficient! \nDetails: \nStart Date: May 26\, 2026 \nEnd Date: 11:30 AM – 12:30 PM \nLocation: This is a LIVE virtual workshop hosted on MS Teams. Once registered\, you will receive a confirmation email with the meeting link. \n\nRegister Today!\n\nCancellation Disclaimer: \nPlease respect our time. If you cannot attend this workshop\, please email careerservices@bcitsa.ca. Non-attendance will affect future workshop registration. \n***Check your junk mail/spam folder for confirmation and reminder emails as our messages may appear there.
URL:https://www.bcitsa.ca/event/downtown-campus-how-to-use-ai-power-skills-for-your-career-search-may-26-2026/
CATEGORIES:Career & Entrepreneurship
ATTACH;FMTTYPE=image/svg+xml:https://www.bcitsa.ca/wp-content/uploads/2026/04/Cover-Letter-Workshops.svg
ORGANIZER;CN="BCITSA Career Services":MAILTO:careerservices@bcitsa.ca
END:VEVENT
END:VCALENDAR